BEGIN:VCALENDAR
VERSION:2.0
PRODID:-//L’EPE et la parentalité - ECPv4.9.10//NONSGML v1.0//EN
CALSCALE:GREGORIAN
METHOD:PUBLISH
X-WR-CALNAME:L’EPE et la parentalité
X-ORIGINAL-URL:https://parents.epe-idf.com
X-WR-CALDESC:Évènements pour L’EPE et la parentalité
BEGIN:VTIMEZONE
TZID:UTC
BEGIN:STANDARD
TZOFFSETFROM:+0000
TZOFFSETTO:+0000
TZNAME:UTC
DTSTART:20260101T000000
END:STANDARD
END:VTIMEZONE
BEGIN:VEVENT
DTSTART;TZID=UTC:20260122T100000
DTEND;TZID=UTC:20260122T120000
DTSTAMP:20260425T164420
CREATED:20251216T131432Z
LAST-MODIFIED:20251218T150816Z
UID:18150-1769076000-1769083200@parents.epe-idf.com
SUMMARY:Café poussette -  Les émotions des parents : colère\, culpabilité\, épuisement…
DESCRIPTION:\n.fusion-events-featured-image {\n    display: none !important;\n}\n.single-tribe_events #content {\n     width: 100% !important; \n}    \n.tribe-events-schedule h3 {\n    font-size: 24px !important;\n}\n\n\n    \n        \n    \n        \n            \n                \n                \n                \n                    \n                    \n                        \n                            Café poussette –  Les émotions des parents : colère\, culpabilité\, épuisement…                        \n                    \n                \n                \n                \n                \n            \n        \n    \n        \n    \n        \n            \n                \n                \n                \n            \n        \n        \n            \n                \n                \n                \n                \n                    Infos pratiques\n                \n                \n            \n            \n            \n            \n            \n        \n        \n            \n                \n                \n                \n                \n                    Lieux\n                \n                \n            \n            \n            \n            \n            \n        \n        \n            \n                \n                \n                \n                \n                    Public\n                \n                \n            \n            \n            \n            \n            \n        \n        \n            \n                \n                \n                \n                \n                    Equipes\n                \n                \n            \n            \n            \n            \n            \n        \n        \n            \n                \n                \n                \n                \n                    Inscription\n                \n                \n            \n            \n            \n            \n            \n        \n        \n            \n                \n                \n                \n            \n        \n    \n        \n    \n        \n            \n                \n                \n                \n                    \n                    Infos pratiques\n                \n                \n                \n                \n                \n                \n                \n            \n        \n        \n            \n                \n                    \n                    Durée\n                \n                \n                    2h \n                \n                \n            \n        \n        \n            \n                \n                    \n                    Dates\n                \n                \n                    \n                        Jeudi 22 janvier 2026 de 10h à 12h \n                    \n                \n                \n            \n        \n        \n            \n                \n                    \n                    Tarif\n                \n                \n                    Gratuit \n                \n                \n            \n        \n        \n            \n                \n                    \n                    Lieu\n                \n                \n                    164 boulevard Voltaire\, 75011 Paris\n                \n                \n            \n        \n        \n            \n                \n                \n                \n            \n        \n    \n        \n    \n        \n            \n                \n                \n                \n                    \n                    Café poussette –  Les émotions des parents : colère\, culpabilité\, épuisement…\n                \n                \n                \n                \n                \n                \n                    Jeudi 22 janvier 2026 de 10h à 12h \n\nL’ascenseur émotionnel parental\, ça vous parle ?\nColère. Culpabilité. Épuisement…\nCette impression tenace de ne jamais être vraiment à la hauteur ou de se sentir submergé\n. Et si on parlait des émotions des parents ?\n. Quoi en faire ?\n. Comment les comprendre\, les apprivoiser… et en faire une force ?\nUn temps d'échange sans jugement pour retrouver de la sérénité dans sa parentalité\n\n\n\nÉchange animé par Sandrine Ferreira\, consultante et formatrice en parentalité\n\n \n\nCafé poussette : \n\n\nDes temps offerts aux parents accompagnés de leurs tout-petits pour partager et communiquer entre eux dans un cadre accueillant et adapté (0 - 3 ans).\n\n\nPour permettre aux parents de rompre l'isolement en sortant avec bébé et échanger entre pairs sur des thèmes choisis ou sur les questionnements du moment\, en présence d'un professionnel de la petite enfance.\n\n                \n                \n                \n            \n        \n        \n            \n                \n            \n        \n        \n            \n                \n                \n                \n                    \n                        \n                    \n                \n                \n            \n        \n    \n        \n    \n        \n            \n                \n                \n                					\n						var map_fusion_map_69ecef6499558;\n						var markers = [];\n						var counter = 0;\n																				var fusionMapNonce = '343acd3a27';\n												function fusion_run_map_fusion_map_69ecef6499558() {\n							jQuery('#fusion_map_69ecef6499558').fusion_maps({\n								addresses: [{"address":"La Maison Ouverte - 164 Bd Voltaire\, 75011 Paris"\,"infobox_content":"La Maison Ouverte - 164 Bd Voltaire\, 75011 Paris"\,"coordinates":false\,"cache":false}]\,\n								animations: false\,\n								infobox_background_color: ''\,\n								infobox_styling: 'default'\,\n								infobox_text_color: ''\,\n								map_style: 'default'\,\n								map_type: 'roadmap'\,\n								marker_icon: ''\,\n								overlay_color: ''\,\n								overlay_color_hsl: {"hue":0\,"sat":0\,"lum":100}\,\n								pan_control: true\,\n								show_address: true\,\n								scale_control: true\,\n								scrollwheel: true\,\n								zoom: 14\,\n								zoom_control: true\,\n							});\n						}\n\n						google.maps.event.addDomListener(window\, 'load'\, fusion_run_map_fusion_map_69ecef6499558);\n					\n					                \n            \n        \n        \n            \n                \n                \n                \n                    \n                    Lieux\n                \n                \n                \n                \n                \n                \n                \n                \n                    La Maison Ouverte - 164 Bd Voltaire\, 75011 Paris\n                \n                \n                    \n                \n                \n                \n                \n            \n        \n        \n            \n                \n                    \n                        \n                    \n                \n                \n            \n        \n    \n        \n    \n        \n            \n                \n                \n                \n                    \n                    Public\n                        et équipes\n                    \n                \n                \n                \n                \n                \n                \n                \n            \n        \n        \n            \n                \n                \n                \n                    \n                    Public\n                \n                \n                \n                \n                    Parents et enfants de 0 à 3 ans                \n                \n            \n        \n        \n            \n                \n                \n                \n                    \n                    Equipes\n                \n                \n                \n                \n                    \n                                            \n                \n                \n            \n        \n        \n            \n                \n                \n                \n            \n        \n    \n        \n    \n        \n            \n                \n                \n                \n            \n        \n        \n            \n                \n            \n        \n        \n            \n                \n                \n                \n                    \n                    S’inscrire\n                \n                \n                \n                \n\n\n\n\n\n\n\n\n\n\n Votre nom*\n      \n Votre eMail*\n      \n Votre téléphone*\n      \n Sujet\n      \n Votre message\n      \n\n\n \n×\n \n                \n            \n        \n        \n            \n                \n            \n        \n    \n    \n\n\n\n    jQuery(document).ready( function () {\n        jQuery("#very-event-link").val('https://parents.epe-idf.com/evenement/cafe-poussette-les-emotions-des-parents-colere-culpabilite-epuisement/');\n        jQuery("#very-event-title").val('Café poussette –  Les émotions des parents : colère\, culpabilité\, épuisement…');\n    } );\n    \n
URL:https://parents.epe-idf.com/evenement/cafe-poussette-les-emotions-des-parents-colere-culpabilite-epuisement/
CATEGORIES:Etre parents d'un petit
ATTACH;FMTTYPE=image/jpeg:https://parents.epe-idf.com/wp-content/uploads/2025/12/shutterstock_2036304866.jpg
END:VEVENT
END:VCALENDAR